BEGIN:VCALENDAR
VERSION:2.0
PRODID:-//SportsPilot + Quincy Youth Soccer/
METHOD:PUBLISH
BEGIN:VEVENT
UID:2450016
DTSTAMP:20260421T054600
SUMMARY: Game:2450016: Flynn Roofing (Gil) VS Curry Hardware (Enos)
DESCRIPTION: Location: Kincaide Field / Field 1
DTSTART:20220911T180000
DTEND:20220911T190000
END:VEVENT
BEGIN:VEVENT
UID:2450007
DTSTAMP:20260421T054600
SUMMARY: Game:2450007: The Chantey (Blahut) VS Flynn Roofing (Gil)
DESCRIPTION: Location: Kincaide Field / Field 1
DTSTART:20220918T180000
DTEND:20220918T190000
END:VEVENT
BEGIN:VEVENT
UID:2450005
DTSTAMP:20260421T054600
SUMMARY: Game:2450005: Quincy Fire Local 792 (Murphy) VS Flynn Roofing (Gil)
DESCRIPTION: Location: Kincaide Field / Field 1
DTSTART:20220925T180000
DTEND:20220925T190000
END:VEVENT
BEGIN:VEVENT
UID:2450004
DTSTAMP:20260421T054600
SUMMARY: Game:2450004: Curry Hardware (Enos) VS Flynn Roofing (Gil)
DESCRIPTION: Location: Kincaide Field / Field 1
DTSTART:20221002T191500
DTEND:20221002T201500
END:VEVENT
BEGIN:VEVENT
UID:2450009
DTSTAMP:20260421T054600
SUMMARY: Game:2450009: Flynn Roofing (Gil) VS Curry Hardware (Enos)
DESCRIPTION: Location: Kincaide Field / Field 1
DTSTART:20221016T180000
DTEND:20221016T190000
END:VEVENT
BEGIN:VEVENT
UID:2450014
DTSTAMP:20260421T054600
SUMMARY: Game:2450014: Flynn Roofing (Gil) VS The Chantey (Blahut)
DESCRIPTION: Location: Kincaide Field / Field 1
DTSTART:20221030T191500
DTEND:20221030T201500
END:VEVENT
BEGIN:VEVENT
UID:2450017
DTSTAMP:20260421T054600
SUMMARY: Game:2450017: Curry Hardware (Enos) VS Flynn Roofing (Gil)
DESCRIPTION: Location: Kincaide Field / Field 1
DTSTART:20221106T180000
DTEND:20221106T190000
END:VEVENT
BEGIN:VEVENT
UID:2450019
DTSTAMP:20260421T054600
SUMMARY: Game:2450019: Flynn Roofing (Gil) VS Quincy Fire Local 792 (Murphy)
DESCRIPTION: Location: Kincaide Field / Field 1
DTSTART:20221113T193000
DTEND:20221113T203000
END:VEVENT
END:VCALENDAR
